BEGIN:VCALENDAR
VERSION:2.0
PRODID:SchoolNow
CALSCALE:GREGORIAN
BEGIN:VEVENT
UID:b090641a-3d0e-11ee-82bc-0aeee3a63991
DTSTAMP:20250327T142118Z
SUMMARY:Magnolia West CDD - Board of Supervisors' Meeting - May 2024
LOCATION:Magnolia West Amenity Center 3490 Canyon Falls Drive\, Green Cove 
 Springs\, FL 32043
URL;VALUE=URI:https://www.magnoliawestcdd.org/calendar/4585547/magnolia-wes
 t-cdd-board-of-supervisors-meeting-may-2024
DTSTART:20240507T193000Z
DTEND:20240507T203000Z
ATTACH;FILENAME=2024-05-07 - Magnolia West CDD - Final Agenda.pdf;FMTTYPE=a
 pplication/pdf:https://campussuite-storage.s3.amazonaws.com/prod/1558918/4
 b18c934-eaaa-11e9-b253-0aa01e52b234/2778942/c282dc3e-0734-11ef-a1ad-0e71a9
 1ee947/file/2024-05-07 - Magnolia West CDD - Final Agenda.pdf
END:VEVENT
END:VCALENDAR
